BEGIN:VCALENDAR
VERSION:2.0
PRODID:-//Blizzard Collège Laurentien - ECPv6.11.0.1//NONSGML v1.0//EN
CALSCALE:GREGORIAN
METHOD:PUBLISH
X-WR-CALNAME:Blizzard Collège Laurentien
X-ORIGINAL-URL:https://blizzard.collegelaurentien.ca
X-WR-CALDESC:Évènements pour Blizzard Collège Laurentien
REFRESH-INTERVAL;VALUE=DURATION:PT1H
X-Robots-Tag:noindex
X-PUBLISHED-TTL:PT1H
BEGIN:VTIMEZONE
TZID:America/New_York
BEGIN:DAYLIGHT
TZOFFSETFROM:-0500
TZOFFSETTO:-0400
TZNAME:EDT
DTSTART:20250309T070000
END:DAYLIGHT
BEGIN:STANDARD
TZOFFSETFROM:-0400
TZOFFSETTO:-0500
TZNAME:EST
DTSTART:20251102T060000
END:STANDARD
END:VTIMEZONE
BEGIN:VEVENT
DTSTART;TZID=America/New_York:20251115T090000
DTEND;TZID=America/New_York:20251115T100000
DTSTAMP:20260421T194215
CREATED:20251022T133810Z
LAST-MODIFIED:20251022T134021Z
UID:1528-1763197200-1763200800@blizzard.collegelaurentien.ca
SUMMARY:Cadets – Collège Laurentien vs Flambeau
DESCRIPTION:
URL:https://blizzard.collegelaurentien.ca/evenement/cadets-college-laurentien-vs-flambeau/
LOCATION:Polyvalente Saint-Jérôme
CATEGORIES:Cadet masculin
END:VEVENT
BEGIN:VEVENT
DTSTART;TZID=America/New_York:20251115T104500
DTEND;TZID=America/New_York:20251115T114500
DTSTAMP:20260421T194215
CREATED:20251022T134101Z
LAST-MODIFIED:20251022T134101Z
UID:1530-1763203500-1763207100@blizzard.collegelaurentien.ca
SUMMARY:Cadets – Collège Laurentien vs Des Hauts-Sommets
DESCRIPTION:
URL:https://blizzard.collegelaurentien.ca/evenement/cadets-college-laurentien-vs-des-hauts-sommets/
LOCATION:Polyvalente Saint-Jérôme
CATEGORIES:Cadet masculin
END:VEVENT
END:VCALENDAR