BEGIN:VCALENDAR
VERSION:2.0
PRODID:-//Blizzard Collège Laurentien - ECPv6.11.0.1//NONSGML v1.0//EN
CALSCALE:GREGORIAN
METHOD:PUBLISH
X-WR-CALNAME:Blizzard Collège Laurentien
X-ORIGINAL-URL:https://blizzard.collegelaurentien.ca
X-WR-CALDESC:Évènements pour Blizzard Collège Laurentien
REFRESH-INTERVAL;VALUE=DURATION:PT1H
X-Robots-Tag:noindex
X-PUBLISHED-TTL:PT1H
BEGIN:VTIMEZONE
TZID:America/New_York
BEGIN:DAYLIGHT
TZOFFSETFROM:-0500
TZOFFSETTO:-0400
TZNAME:EDT
DTSTART:20250309T070000
END:DAYLIGHT
BEGIN:STANDARD
TZOFFSETFROM:-0400
TZOFFSETTO:-0500
TZNAME:EST
DTSTART:20251102T060000
END:STANDARD
END:VTIMEZONE
BEGIN:VEVENT
DTSTART;TZID=America/New_York:20251116T104500
DTEND;TZID=America/New_York:20251116T114500
DTSTAMP:20260421T200036
CREATED:20251022T132039Z
LAST-MODIFIED:20251022T132039Z
UID:1495-1763289900-1763293500@blizzard.collegelaurentien.ca
SUMMARY:Benjamins 2 – Collège Laurentien vs Cap-Jeunesse
DESCRIPTION:
URL:https://blizzard.collegelaurentien.ca/evenement/benjamins-2-college-laurentien-vs-cap-jeunesse/
LOCATION:École secondaire Mirabel
CATEGORIES:Benjamin masculin 2
END:VEVENT
BEGIN:VEVENT
DTSTART;TZID=America/New_York:20251116T123000
DTEND;TZID=America/New_York:20251116T133000
DTSTAMP:20260421T200036
CREATED:20251022T132120Z
LAST-MODIFIED:20251022T132120Z
UID:1497-1763296200-1763299800@blizzard.collegelaurentien.ca
SUMMARY:Benjamins 2 – Collège Laurentien vs Curé-Mercure
DESCRIPTION:
URL:https://blizzard.collegelaurentien.ca/evenement/benjamins-2-college-laurentien-vs-cure-mercure/
LOCATION:École secondaire Mirabel
CATEGORIES:Benjamin masculin 2
END:VEVENT
END:VCALENDAR