BEGIN:VCALENDAR
VERSION:2.0
PRODID:-//Blizzard Collège Laurentien - ECPv6.11.0.1//NONSGML v1.0//EN
CALSCALE:GREGORIAN
METHOD:PUBLISH
X-ORIGINAL-URL:https://blizzard.collegelaurentien.ca
X-WR-CALDESC:Évènements pour Blizzard Collège Laurentien
REFRESH-INTERVAL;VALUE=DURATION:PT1H
X-Robots-Tag:noindex
X-PUBLISHED-TTL:PT1H
BEGIN:VTIMEZONE
TZID:America/New_York
BEGIN:DAYLIGHT
TZOFFSETFROM:-0500
TZOFFSETTO:-0400
TZNAME:EDT
DTSTART:20250309T070000
END:DAYLIGHT
BEGIN:STANDARD
TZOFFSETFROM:-0400
TZOFFSETTO:-0500
TZNAME:EST
DTSTART:20251102T060000
END:STANDARD
END:VTIMEZONE
BEGIN:VEVENT
DTSTART;TZID=America/New_York:20251129T110000
DTEND;TZID=America/New_York:20251129T120000
DTSTAMP:20260421T194318
CREATED:20251022T140327Z
LAST-MODIFIED:20251022T140327Z
UID:1546-1764414000-1764417600@blizzard.collegelaurentien.ca
SUMMARY:Cadets – Collège Laurentien vs Saint-Joseph
DESCRIPTION:
URL:https://blizzard.collegelaurentien.ca/evenement/cadets-college-laurentien-vs-saint-joseph/
LOCATION:École Saint-Joseph (Mont-Laurier)
CATEGORIES:Juvénile masculin
END:VEVENT
END:VCALENDAR