BEGIN:VCALENDAR
VERSION:2.0
PRODID:-//Blizzard Collège Laurentien - ECPv6.11.0.1//NONSGML v1.0//EN
CALSCALE:GREGORIAN
METHOD:PUBLISH
X-WR-CALNAME:Blizzard Collège Laurentien
X-ORIGINAL-URL:https://blizzard.collegelaurentien.ca
X-WR-CALDESC:Évènements pour Blizzard Collège Laurentien
REFRESH-INTERVAL;VALUE=DURATION:PT1H
X-Robots-Tag:noindex
X-PUBLISHED-TTL:PT1H
BEGIN:VTIMEZONE
TZID:America/New_York
BEGIN:DAYLIGHT
TZOFFSETFROM:-0500
TZOFFSETTO:-0400
TZNAME:EDT
DTSTART:20260308T070000
END:DAYLIGHT
BEGIN:STANDARD
TZOFFSETFROM:-0400
TZOFFSETTO:-0500
TZNAME:EST
DTSTART:20261101T060000
END:STANDARD
END:VTIMEZONE
BEGIN:VEVENT
DTSTART;TZID=America/New_York:20260315T110000
DTEND;TZID=America/New_York:20260315T120000
DTSTAMP:20260421T134413
CREATED:20251022T132617Z
LAST-MODIFIED:20251022T132617Z
UID:1508-1773572400-1773576000@blizzard.collegelaurentien.ca
SUMMARY:Benjamins 2 – Collège Laurentien vs Augustin-Norbert-Morin
DESCRIPTION:
URL:https://blizzard.collegelaurentien.ca/evenement/benjamins-2-college-laurentien-vs-augustin-norbert-morin-2/
LOCATION:Polyvalente Des Monts (Ste-Agathe)
CATEGORIES:Benjamin masculin 2
END:VEVENT
BEGIN:VEVENT
DTSTART;TZID=America/New_York:20260315T153000
DTEND;TZID=America/New_York:20260315T163000
DTSTAMP:20260421T134413
CREATED:20251022T132713Z
LAST-MODIFIED:20251022T132713Z
UID:1510-1773588600-1773592200@blizzard.collegelaurentien.ca
SUMMARY:Benjamins 2 – Collège Laurentien vs Curé-Mercure
DESCRIPTION:
URL:https://blizzard.collegelaurentien.ca/evenement/benjamins-2-college-laurentien-vs-cure-mercure-2/
LOCATION:Polyvalente Des Monts (Ste-Agathe)
CATEGORIES:Benjamin masculin 2
END:VEVENT
END:VCALENDAR