BEGIN:VCALENDAR
VERSION:2.0
PRODID:-//Blizzard Collège Laurentien - ECPv6.11.0.1//NONSGML v1.0//EN
CALSCALE:GREGORIAN
METHOD:PUBLISH
X-WR-CALNAME:Blizzard Collège Laurentien
X-ORIGINAL-URL:https://blizzard.collegelaurentien.ca
X-WR-CALDESC:Évènements pour Blizzard Collège Laurentien
REFRESH-INTERVAL;VALUE=DURATION:PT1H
X-Robots-Tag:noindex
X-PUBLISHED-TTL:PT1H
BEGIN:VTIMEZONE
TZID:America/New_York
BEGIN:DAYLIGHT
TZOFFSETFROM:-0500
TZOFFSETTO:-0400
TZNAME:EDT
DTSTART:20260308T070000
END:DAYLIGHT
BEGIN:STANDARD
TZOFFSETFROM:-0400
TZOFFSETTO:-0500
TZNAME:EST
DTSTART:20261101T060000
END:STANDARD
END:VTIMEZONE
BEGIN:VEVENT
DTSTART;TZID=America/New_York:20260221T103000
DTEND;TZID=America/New_York:20260221T113000
DTSTAMP:20260424T132059
CREATED:20251022T131444Z
LAST-MODIFIED:20251022T131444Z
UID:1490-1771669800-1771673400@blizzard.collegelaurentien.ca
SUMMARY:Benjamins 1 – Collège Laurentien vs Flambeau
DESCRIPTION:
URL:https://blizzard.collegelaurentien.ca/evenement/benjamins-1-college-laurentien-vs-flambeau-2/
LOCATION:École secondaire des Hauts-Sommets\, 1000 112e Ave\, Saint-Jérome\, Québec\, J7Y 5C2\, Canada
CATEGORIES:Benjamin masculin 1
END:VEVENT
BEGIN:VEVENT
DTSTART;TZID=America/New_York:20260221T150000
DTEND;TZID=America/New_York:20260221T160000
DTSTAMP:20260424T132059
CREATED:20251022T131529Z
LAST-MODIFIED:20251022T131529Z
UID:1493-1771686000-1771689600@blizzard.collegelaurentien.ca
SUMMARY:Benjamins 1 – Collège Laurentien vs Curé-Mercure
DESCRIPTION:
URL:https://blizzard.collegelaurentien.ca/evenement/benjamins-1-college-laurentien-vs-cure-mercure-2/
LOCATION:École secondaire des Hauts-Sommets\, 1000 112e Ave\, Saint-Jérome\, Québec\, J7Y 5C2\, Canada
CATEGORIES:Benjamin masculin 1
END:VEVENT
END:VCALENDAR