BEGIN:VCALENDAR
VERSION:2.0
PRODID:-//Blizzard Collège Laurentien - ECPv6.11.0.1//NONSGML v1.0//EN
CALSCALE:GREGORIAN
METHOD:PUBLISH
X-WR-CALNAME:Blizzard Collège Laurentien
X-ORIGINAL-URL:https://blizzard.collegelaurentien.ca
X-WR-CALDESC:Évènements pour Blizzard Collège Laurentien
REFRESH-INTERVAL;VALUE=DURATION:PT1H
X-Robots-Tag:noindex
X-PUBLISHED-TTL:PT1H
BEGIN:VTIMEZONE
TZID:America/New_York
BEGIN:DAYLIGHT
TZOFFSETFROM:-0500
TZOFFSETTO:-0400
TZNAME:EDT
DTSTART:20250309T070000
END:DAYLIGHT
BEGIN:STANDARD
TZOFFSETFROM:-0400
TZOFFSETTO:-0500
TZNAME:EST
DTSTART:20251102T060000
END:STANDARD
END:VTIMEZONE
BEGIN:VEVENT
DTSTART;TZID=America/New_York:20251116T090000
DTEND;TZID=America/New_York:20251116T100000
DTSTAMP:20260424T185143
CREATED:20251022T130625Z
LAST-MODIFIED:20251022T130625Z
UID:1477-1763283600-1763287200@blizzard.collegelaurentien.ca
SUMMARY:Benjamins 1 – Collège Laurentien vs Curé-Mercure
DESCRIPTION:
URL:https://blizzard.collegelaurentien.ca/evenement/benjamins-1-college-laurentien-vs-cure-mercure/
LOCATION:École secondaire Augustin-Norbert-Morin\, 258 Bd de Sainte-Adèle\, Sainte-Adèle\, Québec\, J8B 0K6\, Canada
CATEGORIES:Benjamin masculin 1
END:VEVENT
BEGIN:VEVENT
DTSTART;TZID=America/New_York:20251116T104500
DTEND;TZID=America/New_York:20251116T114500
DTSTAMP:20260424T185143
CREATED:20251022T130713Z
LAST-MODIFIED:20251022T130713Z
UID:1480-1763289900-1763293500@blizzard.collegelaurentien.ca
SUMMARY:Benjamins 1 – Collège Laurentien vs Flambeau
DESCRIPTION:
URL:https://blizzard.collegelaurentien.ca/evenement/benjamins-1-college-laurentien-vs-flambeau/
LOCATION:École secondaire Augustin-Norbert-Morin\, 258 Bd de Sainte-Adèle\, Sainte-Adèle\, Québec\, J8B 0K6\, Canada
CATEGORIES:Benjamin masculin 1
END:VEVENT
END:VCALENDAR