BEGIN:VCALENDAR
VERSION:2.0
PRODID:-//Blizzard Collège Laurentien - ECPv6.11.0.1//NONSGML v1.0//EN
CALSCALE:GREGORIAN
METHOD:PUBLISH
X-ORIGINAL-URL:https://blizzard.collegelaurentien.ca
X-WR-CALDESC:Évènements pour Blizzard Collège Laurentien
REFRESH-INTERVAL;VALUE=DURATION:PT1H
X-Robots-Tag:noindex
X-PUBLISHED-TTL:PT1H
BEGIN:VTIMEZONE
TZID:America/New_York
BEGIN:DAYLIGHT
TZOFFSETFROM:-0500
TZOFFSETTO:-0400
TZNAME:EDT
DTSTART:20260308T070000
END:DAYLIGHT
BEGIN:STANDARD
TZOFFSETFROM:-0400
TZOFFSETTO:-0500
TZNAME:EST
DTSTART:20261101T060000
END:STANDARD
END:VTIMEZONE
BEGIN:VEVENT
DTSTART;TZID=America/New_York:20260214T103000
DTEND;TZID=America/New_York:20260214T113000
DTSTAMP:20260424T131102
CREATED:20251022T130039Z
LAST-MODIFIED:20251022T130039Z
UID:1473-1771065000-1771068600@blizzard.collegelaurentien.ca
SUMMARY:Benjamines – Collège Laurentien vs Lavigne
DESCRIPTION:
URL:https://blizzard.collegelaurentien.ca/evenement/benjamines-college-laurentien-vs-lavigne-2/
LOCATION:Harfang
CATEGORIES:Benjamines filles
END:VEVENT
BEGIN:VEVENT
DTSTART;TZID=America/New_York:20260214T133000
DTEND;TZID=America/New_York:20260214T143000
DTSTAMP:20260424T131102
CREATED:20251022T130117Z
LAST-MODIFIED:20251022T130117Z
UID:1475-1771075800-1771079400@blizzard.collegelaurentien.ca
SUMMARY:Benjamines – Collège Laurentien vs Harfang
DESCRIPTION:
URL:https://blizzard.collegelaurentien.ca/evenement/benjamines-college-laurentien-vs-harfang-2/
LOCATION:Harfang
CATEGORIES:Benjamines filles
END:VEVENT
END:VCALENDAR