BEGIN:VCALENDAR
VERSION:2.0
PRODID:-//Blizzard Collège Laurentien - ECPv6.11.0.1//NONSGML v1.0//EN
CALSCALE:GREGORIAN
METHOD:PUBLISH
X-WR-CALNAME:Blizzard Collège Laurentien
X-ORIGINAL-URL:https://blizzard.collegelaurentien.ca
X-WR-CALDESC:Évènements pour Blizzard Collège Laurentien
REFRESH-INTERVAL;VALUE=DURATION:PT1H
X-Robots-Tag:noindex
X-PUBLISHED-TTL:PT1H
BEGIN:VTIMEZONE
TZID:America/New_York
BEGIN:DAYLIGHT
TZOFFSETFROM:-0500
TZOFFSETTO:-0400
TZNAME:EDT
DTSTART:20260308T070000
END:DAYLIGHT
BEGIN:STANDARD
TZOFFSETFROM:-0400
TZOFFSETTO:-0500
TZNAME:EST
DTSTART:20261101T060000
END:STANDARD
END:VTIMEZONE
BEGIN:VEVENT
DTSTART;TZID=America/New_York:20260117T090000
DTEND;TZID=America/New_York:20260117T100000
DTSTAMP:20260424T155634
CREATED:20251022T125656Z
LAST-MODIFIED:20251022T125656Z
UID:1469-1768640400-1768644000@blizzard.collegelaurentien.ca
SUMMARY:Benjamines – Collège Laurentien vs Flambeau
DESCRIPTION:
URL:https://blizzard.collegelaurentien.ca/evenement/benjamines-college-laurentien-vs-flambeau-2/
LOCATION:Collège Laurentien\, 1200\, 14e Avenue\, Val-Morin\, Québec\, J0T 2R0\, Canada
CATEGORIES:Benjamines filles
END:VEVENT
BEGIN:VEVENT
DTSTART;TZID=America/New_York:20260117T133000
DTEND;TZID=America/New_York:20260117T143000
DTSTAMP:20260424T155634
CREATED:20251022T125753Z
LAST-MODIFIED:20251022T125811Z
UID:1471-1768656600-1768660200@blizzard.collegelaurentien.ca
SUMMARY:Benjamines – Collège Laurentien vs Polyvalente Sainte-Thérèse
DESCRIPTION:
URL:https://blizzard.collegelaurentien.ca/evenement/benjamines-college-laurentien-vs-polyvalente-sainte-therese-2/
LOCATION:Collège Laurentien\, 1200\, 14e Avenue\, Val-Morin\, Québec\, J0T 2R0\, Canada
CATEGORIES:Benjamines filles
END:VEVENT
END:VCALENDAR