BEGIN:VCALENDAR
VERSION:2.0
PRODID:-//Blizzard Collège Laurentien - ECPv6.11.0.1//NONSGML v1.0//EN
CALSCALE:GREGORIAN
METHOD:PUBLISH
X-ORIGINAL-URL:https://blizzard.collegelaurentien.ca
X-WR-CALDESC:Évènements pour Blizzard Collège Laurentien
REFRESH-INTERVAL;VALUE=DURATION:PT1H
X-Robots-Tag:noindex
X-PUBLISHED-TTL:PT1H
BEGIN:VTIMEZONE
TZID:America/New_York
BEGIN:DAYLIGHT
TZOFFSETFROM:-0500
TZOFFSETTO:-0400
TZNAME:EDT
DTSTART:20260308T070000
END:DAYLIGHT
BEGIN:STANDARD
TZOFFSETFROM:-0400
TZOFFSETTO:-0500
TZNAME:EST
DTSTART:20261101T060000
END:STANDARD
END:VTIMEZONE
BEGIN:VEVENT
DTSTART;VALUE=DATE:20260410
DTEND;VALUE=DATE:20260413
DTSTAMP:20260424T121009
CREATED:20251022T144859Z
LAST-MODIFIED:20251022T144859Z
UID:1597-1775779200-1776038399@blizzard.collegelaurentien.ca
SUMMARY:Championnat provincial scolaire catégorie juvénile
DESCRIPTION:Les équipes prendront part au championnat provincial si elles se qualifient lors des tournois régionaux. \nEndroit : à venir
URL:https://blizzard.collegelaurentien.ca/evenement/championnat-provincial-scolaire-categorie-juvenile/
LOCATION:Québec
CATEGORIES:Juvénile féminin,Juvénile masculin
END:VEVENT
BEGIN:VEVENT
DTSTART;VALUE=DATE:20260411
DTEND;VALUE=DATE:20260413
DTSTAMP:20260424T121009
CREATED:20251022T144354Z
LAST-MODIFIED:20251022T144354Z
UID:1589-1775865600-1776038399@blizzard.collegelaurentien.ca
SUMMARY:Championnat régional scolaire (division 4)
DESCRIPTION:
URL:https://blizzard.collegelaurentien.ca/evenement/championnat-regional-scolaire-division-4/
LOCATION:Québec
CATEGORIES:Benjamin masculin 1,Benjamin masculin 2,Benjamines filles,Cadet masculin,Cadettes filles,Juvénile féminin,Juvénile masculin
END:VEVENT
END:VCALENDAR