BEGIN:VCALENDAR
VERSION:2.0
PRODID:-//Blizzard Collège Laurentien - ECPv6.11.0.1//NONSGML v1.0//EN
CALSCALE:GREGORIAN
METHOD:PUBLISH
X-ORIGINAL-URL:https://blizzard.collegelaurentien.ca
X-WR-CALDESC:Évènements pour Blizzard Collège Laurentien
REFRESH-INTERVAL;VALUE=DURATION:PT1H
X-Robots-Tag:noindex
X-PUBLISHED-TTL:PT1H
BEGIN:VTIMEZONE
TZID:America/New_York
BEGIN:DAYLIGHT
TZOFFSETFROM:-0500
TZOFFSETTO:-0400
TZNAME:EDT
DTSTART:20250309T070000
END:DAYLIGHT
BEGIN:STANDARD
TZOFFSETFROM:-0400
TZOFFSETTO:-0500
TZNAME:EST
DTSTART:20251102T060000
END:STANDARD
END:VTIMEZONE
BEGIN:VEVENT
DTSTART;TZID=America/New_York:20251207T104500
DTEND;TZID=America/New_York:20251207T114500
DTSTAMP:20260421T165504
CREATED:20251022T134154Z
LAST-MODIFIED:20251022T134154Z
UID:1532-1765104300-1765107900@blizzard.collegelaurentien.ca
SUMMARY:Cadets – Collège Laurentien vs Augustin-Norbert-Morin
DESCRIPTION:
URL:https://blizzard.collegelaurentien.ca/evenement/cadets-college-laurentien-vs-augustin-norbert-morin/
LOCATION:École du Flambeau (Saint-Jérôme)
CATEGORIES:Cadet masculin
END:VEVENT
BEGIN:VEVENT
DTSTART;TZID=America/New_York:20251207T123000
DTEND;TZID=America/New_York:20251207T133000
DTSTAMP:20260421T165504
CREATED:20251118T154344Z
LAST-MODIFIED:20251118T154344Z
UID:1654-1765110600-1765114200@blizzard.collegelaurentien.ca
SUMMARY:Cadets - Saint-Jérôme vs Collège Laurentien
DESCRIPTION:
URL:https://blizzard.collegelaurentien.ca/evenement/cadets-saint-jerome-vs-college-laurentien/
LOCATION:École du Flambeau (Saint-Jérôme)
END:VEVENT
END:VCALENDAR