BEGIN:VCALENDAR
VERSION:2.0
PRODID:-//Blizzard Collège Laurentien - ECPv6.11.0.1//NONSGML v1.0//EN
CALSCALE:GREGORIAN
METHOD:PUBLISH
X-ORIGINAL-URL:https://blizzard.collegelaurentien.ca
X-WR-CALDESC:Évènements pour Blizzard Collège Laurentien
REFRESH-INTERVAL;VALUE=DURATION:PT1H
X-Robots-Tag:noindex
X-PUBLISHED-TTL:PT1H
BEGIN:VTIMEZONE
TZID:America/New_York
BEGIN:DAYLIGHT
TZOFFSETFROM:-0500
TZOFFSETTO:-0400
TZNAME:EDT
DTSTART:20260308T070000
END:DAYLIGHT
BEGIN:STANDARD
TZOFFSETFROM:-0400
TZOFFSETTO:-0500
TZNAME:EST
DTSTART:20261101T060000
END:STANDARD
END:VTIMEZONE
BEGIN:VEVENT
DTSTART;TZID=America/New_York:20260222T104500
DTEND;TZID=America/New_York:20260222T114500
DTSTAMP:20260421T135939
CREATED:20251022T135759Z
LAST-MODIFIED:20251022T135759Z
UID:1540-1771757100-1771760700@blizzard.collegelaurentien.ca
SUMMARY:Cadets – Collège Laurentien vs Des Hauts-Sommets
DESCRIPTION:
URL:https://blizzard.collegelaurentien.ca/evenement/cadets-college-laurentien-vs-des-hauts-sommets-2/
LOCATION:École Frenette (Saint-Jérôme)
CATEGORIES:Cadet masculin
END:VEVENT
BEGIN:VEVENT
DTSTART;TZID=America/New_York:20260222T123000
DTEND;TZID=America/New_York:20260222T133000
DTSTAMP:20260421T135939
CREATED:20251022T135837Z
LAST-MODIFIED:20251022T135837Z
UID:1542-1771763400-1771767000@blizzard.collegelaurentien.ca
SUMMARY:Cadets – Collège Laurentien vs Flambeau
DESCRIPTION:
URL:https://blizzard.collegelaurentien.ca/evenement/cadets-college-laurentien-vs-flambeau-2/
LOCATION:École Frenette (Saint-Jérôme)
CATEGORIES:Cadet masculin
END:VEVENT
END:VCALENDAR